BEGIN:VCALENDAR
VERSION:2.0
PRODID:-//United Workers Party - ECPv6.15.13.1//NONSGML v1.0//EN
CALSCALE:GREGORIAN
METHOD:PUBLISH
X-WR-CALNAME:United Workers Party
X-ORIGINAL-URL:https://uwpstlucia.com
X-WR-CALDESC:Events for United Workers Party
REFRESH-INTERVAL;VALUE=DURATION:PT1H
X-Robots-Tag:noindex
X-PUBLISHED-TTL:PT1H
BEGIN:VTIMEZONE
TZID:UTC
BEGIN:STANDARD
TZOFFSETFROM:+0000
TZOFFSETTO:+0000
TZNAME:UTC
DTSTART:20200101T000000
END:STANDARD
END:VTIMEZONE
BEGIN:VEVENT
DTSTART;TZID=UTC:20231102T203000
DTEND;TZID=UTC:20231102T223000
DTSTAMP:20260424T022249
CREATED:20231101T200206Z
LAST-MODIFIED:20231101T200206Z
UID:3606-1698957000-1698964200@uwpstlucia.com
SUMMARY:Round Table Discussion - 2.5% Tax and Cost of Living
DESCRIPTION:Tune in to this week’s Round Table Discussion on the negative impact of the Government’s newly implemented 2.5% Tax on the Cost of Living. \nJoin the discussion this Thursday\, November 2nd\, 2023 from 8:30 PM
URL:https://uwpstlucia.com/event/round-table-discussion-2-5-tax-and-cost-of-living/
ATTACH;FMTTYPE=image/png:https://uwpstlucia.com/wp-content/uploads/2023/11/UWP-PUBLIC-MEETING.png
END:VEVENT
BEGIN:VEVENT
DTSTART;TZID=UTC:20231102T083000
DTEND;TZID=UTC:20231102T100000
DTSTAMP:20260424T022249
CREATED:20231101T201958Z
LAST-MODIFIED:20231101T201958Z
UID:3613-1698913800-1698919200@uwpstlucia.com
SUMMARY:Meet the Opposition - 97.1 FM
DESCRIPTION: Exciting Announcement! \nJoin us every Thursday on Rev Up St. Lucia 97.1 for an educational and informative program where you can meet the opposition and participate in engaging discussions from 9 a.m. to 10:30 a.m.
URL:https://uwpstlucia.com/event/meet-the-opposition-97-1-fm/
LOCATION:97.1 FM and LIVE on UWP Facebook Pages
ATTACH;FMTTYPE=image/png:https://uwpstlucia.com/wp-content/uploads/2023/11/UWP-PUBLIC-MEETING-2.png
END:VEVENT
BEGIN:VEVENT
DTSTART;TZID=UTC:20230603T190000
DTEND;TZID=UTC:20230603T190000
DTSTAMP:20260424T022249
CREATED:20230516T141556Z
LAST-MODIFIED:20230516T170201Z
UID:3064-1685818800-1685818800@uwpstlucia.com
SUMMARY:UWP Community Night
DESCRIPTION:Includes Dinner\, a Glass of Wine and a Bingo Card\nRaffles\, Auctions and Door Prizes to be Won. \nContact UWP Secretariat or Jenny for Tickets\n(758) 451-4949 and (758) 720-8808
URL:https://uwpstlucia.com/event/uwp-community-night/
LOCATION:Beausejour\, Vieux Fort
END:VEVENT
BEGIN:VEVENT
DTSTART;TZID=UTC:20230528T160000
DTEND;TZID=UTC:20230528T230000
DTSTAMP:20260424T022249
CREATED:20230520T125635Z
LAST-MODIFIED:20230520T125635Z
UID:3097-1685289600-1685314800@uwpstlucia.com
SUMMARY:Country and Western Night - Castries East and Friends
DESCRIPTION:
URL:https://uwpstlucia.com/event/country-and-western-night-castries-east-and-friends/
LOCATION:The Warehouse( Next to Ferrands Bridge)
END:VEVENT
BEGIN:VEVENT
DTSTART;TZID=UTC:20230528T120000
DTEND;TZID=UTC:20230528T120000
DTSTAMP:20260424T022249
CREATED:20230516T182004Z
LAST-MODIFIED:20230516T182227Z
UID:3076-1685275200-1685275200@uwpstlucia.com
SUMMARY:Friends and Family BBQ
DESCRIPTION:  \nFOOD – DRINKS – MUSIC – GAMES \n 
URL:https://uwpstlucia.com/event/friends-and-family-bbq/
LOCATION:Jordan’s Bar and Grill\, Marchand Road\, Castries\, Saint Lucia
END:VEVENT
BEGIN:VEVENT
DTSTART;TZID=UTC:20230521T100000
DTEND;TZID=UTC:20230521T170000
DTSTAMP:20260424T022249
CREATED:20230520T124916Z
LAST-MODIFIED:20230520T124916Z
UID:3092-1684663200-1684688400@uwpstlucia.com
SUMMARY:Sunday Vibes - Domino\, Dance and Cricket
DESCRIPTION:Sunday Vibes- Happening this coming Sunday\, May 21\, 2023 from 10AM. Lots of prizes to be won!Looking forward to seeing you there
URL:https://uwpstlucia.com/event/sunday-vibes-domino-dance-and-cricket/
LOCATION:Belair Playing Field\, Saint Lucia
END:VEVENT
BEGIN:VEVENT
DTSTART;TZID=UTC:20210526T080000
DTEND;TZID=UTC:20210706T120000
DTSTAMP:20260424T022249
CREATED:20230415T113011Z
LAST-MODIFIED:20230509T154304Z
UID:2965-1622016000-1625572800@uwpstlucia.com
SUMMARY:Vibes
DESCRIPTION:Join Nancy Charles every Wednesday evening from 8:30PM for Vibes. Every week she is joined by a different Parliamentary Representative or UWP Candidate to discuss the vibes in their respective constituencies or latest issues. \nTune in to SKY FM 93.1 or LIVE on GVD TV Channel 115 and on Facebook
URL:https://uwpstlucia.com/event/vibes-2/
CATEGORIES:World Politics
END:VEVENT
BEGIN:VEVENT
DTSTART;TZID=UTC:20210412T080000
DTEND;TZID=UTC:20211025T170000
DTSTAMP:20260424T022249
CREATED:20171213T134523Z
LAST-MODIFIED:20230321T113319Z
UID:394-1618214400-1635181200@uwpstlucia.com
SUMMARY:Inside Castries South East
DESCRIPTION:Every Monday night at 8:00PM\, join Minister for Economic Development\, Transport\, Housing and Civil Aviation and Parliamentary Representative for Castries South East the Hon. Guy Joseph on SKY FM 93.1\, on GVD TV Channel 115 and LIVE on Facebook.
URL:https://uwpstlucia.com/event/inside-castries-south-east/
LOCATION:Concert Hall “Cinema City”\, 350 5th Ave\, New York\, NY 10118\, USA
CATEGORIES:World Politics
ORGANIZER;CN="Jack Well":MAILTO:name@example.com
END:VEVENT
BEGIN:VEVENT
DTSTART;TZID=UTC:20210408T130000
DTEND;TZID=UTC:20211028T160000
DTSTAMP:20260424T022249
CREATED:20171213T134238Z
LAST-MODIFIED:20230321T113322Z
UID:388-1617886800-1635436800@uwpstlucia.com
SUMMARY:South of the Island
DESCRIPTION:Join UWP Candidate for Vieux Fort North Mr. Vincent London every Thursday afternoon from 1:00PM-4:00PM for “South of the Island” as he and his guests discuss some of the ongoing projects and programmes that are ongoing to develop the south.
URL:https://uwpstlucia.com/event/south-of-the-island/
LOCATION:Concert Hall “Cinema City”\, 350 5th Ave\, New York\, NY 10118\, USA
CATEGORIES:World Politics
ORGANIZER;CN="Jack Well":MAILTO:name@example.com
END:VEVENT
END:VCALENDAR