BEGIN:VCALENDAR
VERSION:2.0
PRODID:-//United Workers Party - ECPv6.15.13.1//NONSGML v1.0//EN
CALSCALE:GREGORIAN
METHOD:PUBLISH
X-ORIGINAL-URL:https://uwpstlucia.com
X-WR-CALDESC:Events for United Workers Party
REFRESH-INTERVAL;VALUE=DURATION:PT1H
X-Robots-Tag:noindex
X-PUBLISHED-TTL:PT1H
BEGIN:VTIMEZONE
TZID:UTC
BEGIN:STANDARD
TZOFFSETFROM:+0000
TZOFFSETTO:+0000
TZNAME:UTC
DTSTART:20200101T000000
END:STANDARD
END:VTIMEZONE
BEGIN:VEVENT
DTSTART;VALUE=DATE:20250208
DTEND;VALUE=DATE:20250427
DTSTAMP:20260424T003741
CREATED:20250208T164306Z
LAST-MODIFIED:20250208T165117Z
UID:4884-1738972800-1745711999@uwpstlucia.com
SUMMARY:Yellow Saturdaze BBQ
DESCRIPTION:Join Us for Yellow Saturdaze BBQ in La Ressource\, Dennery! 🔥 \nThe UWP Dennery North Constituency Branch invites you to Yellow Saturdaze BBQ—happening this and every Saturday in La Ressource\, Dennery! \n🍗 Delicious BBQ\n🎶 Great vibes\n💛 Good company \nCome out\, enjoy some mouth-watering food\, connect with fellow supporters\, and keep the Yellow spirit alive! \n📍 Location: La Ressource\, Dennery\n📅 Every Saturday\n🕛 From 11:00am Until… \nBring your friends and family—it’s a vibe you don’t want to miss! See you there! 💛🔥 #YellowSaturdaze #UWP #DenneryNorth
URL:https://uwpstlucia.com/event/yellow-saturdaze-bbq/
LOCATION:La Ressource\, Dennery\, La Ressource\, Dennery\, Saint Lucia
CATEGORIES:BBQ
ATTACH;FMTTYPE=image/png:https://uwpstlucia.com/wp-content/uploads/2025/02/Yellow-Saturday-BBQ.png
END:VEVENT
BEGIN:VEVENT
DTSTART;TZID=UTC:20241026T183000
DTEND;TZID=UTC:20241026T230000
DTSTAMP:20260424T003741
CREATED:20241004T164014Z
LAST-MODIFIED:20241004T164014Z
UID:4707-1729967400-1729983600@uwpstlucia.com
SUMMARY:UWP Community Night
DESCRIPTION:Join us for an unforgettable evening of entertainment\, raffles\, and prizes at the United Workers Party Community Night on Saturday\, October 26th\, 2024! Tickets are $100\, including dinner and more. Get yours now at the UWP Secretariat!
URL:https://uwpstlucia.com/event/uwp-community-night-2/
LOCATION:The Pavillion on the Ramp\, Rodney Bay
END:VEVENT
BEGIN:VEVENT
DTSTART;TZID=UTC:20240519T110000
DTEND;TZID=UTC:20240519T180000
DTSTAMP:20260424T003741
CREATED:20240507T174647Z
LAST-MODIFIED:20240507T174647Z
UID:4071-1716116400-1716141600@uwpstlucia.com
SUMMARY:60th Anniversary Celebrations: Family Fun Day
DESCRIPTION:Embrace unity and excellence with the United Workers Party at our Family Fun Day – a celebration of togetherness! Join us on Sunday\, May 19th\, 2024\, at the Micoud Playing Field starting at 11:00 AM. Get ready for a day filled with joy\, laughter\, and unforgettable memories.
URL:https://uwpstlucia.com/event/60th-anniversary-celebrations-family-fun-day/
LOCATION:Micoud Playing Field\, Micoud\, Saint Lucia
ATTACH;FMTTYPE=image/png:https://uwpstlucia.com/wp-content/uploads/2024/05/Copy-of-UWP-Invitation-Church-Service-2.png
END:VEVENT
BEGIN:VEVENT
DTSTART;TZID=UTC:20240519T080000
DTEND;TZID=UTC:20240519T223000
DTSTAMP:20260424T003741
CREATED:20240507T173759Z
LAST-MODIFIED:20240507T173759Z
UID:4066-1716105600-1716157800@uwpstlucia.com
SUMMARY:60th Anniversary Celebrations : Special Church Service
DESCRIPTION:Join us for a divine celebration at St. Lucy’s Parish and National Shrine\, Micoud\, as we honor a monumental milestone together! The United Workers Party cordially invites you to a special church service on Sunday\, May 19th\, 2024\, at 8:00 AM. Come be a part of this memorable event!
URL:https://uwpstlucia.com/event/60th-anniversary-celebrations-special-church-service/
LOCATION:St Lucy’s Parish\, National Shrine Micoud\, Micoud\, Saint Lucia
ATTACH;FMTTYPE=image/png:https://uwpstlucia.com/wp-content/uploads/2024/05/Copy-of-UWP-Invitation-Church-Service-.png
END:VEVENT
BEGIN:VEVENT
DTSTART;TZID=UTC:20240406T183000
DTEND;TZID=UTC:20240406T233000
DTSTAMP:20260424T003741
CREATED:20240318T182326Z
LAST-MODIFIED:20240318T182326Z
UID:3876-1712428200-1712446200@uwpstlucia.com
SUMMARY:All that Glitters is Gold Gala Dinner
DESCRIPTION:THE UNITED WORKERS PARTY PRESENTS ALL THAT GLITTERS GOLD 2024 \nTHE BALLROOM\, SANDALS GRANDE COCKTAILS\, DINNER\, LIVE AUCTION\, ENTERTAINMENT\, AFTER PARTY \nFORMAL ATTIRE (SOMETHING GOLD) \nTICKETS AVAILABLE FROM UW SECRETARIAT OR CONSTITUENCY BRANCHES
URL:https://uwpstlucia.com/event/all-that-glitters-is-gold-gala-dinner/
LOCATION:Sandals Grande\, The Ballroom\, Pigeon Island\, Saint Lucia
ATTACH;FMTTYPE=image/jpeg:https://uwpstlucia.com/wp-content/uploads/2024/03/Invitation.jpg
END:VEVENT
BEGIN:VEVENT
DTSTART;TZID=UTC:20240321T093000
DTEND;TZID=UTC:20240321T093000
DTSTAMP:20260424T003741
CREATED:20240318T185923Z
LAST-MODIFIED:20240318T185923Z
UID:3883-1711013400-1711013400@uwpstlucia.com
SUMMARY:Meet the Opposition
DESCRIPTION:Meet the Opposition every Thursdays on Rev-Up 97.1 FM and Streaming live on UWP Facebook Page
URL:https://uwpstlucia.com/event/meet-the-opposition/
LOCATION:Live on Rev Up 97.1 FM
ATTACH;FMTTYPE=image/png:https://uwpstlucia.com/wp-content/uploads/2024/03/Graphic-1.png
END:VEVENT
BEGIN:VEVENT
DTSTART;TZID=UTC:20231207T203000
DTEND;TZID=UTC:20231207T220000
DTSTAMP:20260424T003741
CREATED:20231205T172014Z
LAST-MODIFIED:20231205T172014Z
UID:3713-1701981000-1701986400@uwpstlucia.com
SUMMARY:The mismanagement of the economy and its hardship on Saint Lucian people
DESCRIPTION:🎙️ Join the Conversation! RoundTable Discussion on Saint Lucia’s Economy\nThis Thursday at 8:30 PM\, we’re diving deep into the critical issues surrounding the mismanagement of Saint Lucia’s economy and its direct impact on citizens. 📉💼\n🔍 Gain valuable insights and be part of the conversation that matters. Your voice counts! 🗣️🌍\n📅 Date: Thursday\n🕣 Time: 8:30 PM (GMT-4)\n📍 Where: GVD TV Channel 115\, Facebook LIVE and Youtube\nDon’t miss out on this crucial RoundTable discussion. It’s time to be informed and engaged! 🌐🗓️ #EconomicDiscussion #RoundTableTalks #SaintLuciaEconomy 📈💬
URL:https://uwpstlucia.com/event/the-mismanagement-of-the-economy-and-its-hardship-on-saint-lucian-people/
ATTACH;FMTTYPE=image/png:https://uwpstlucia.com/wp-content/uploads/2023/12/UWP-PUBLIC-MEETING-1.png
END:VEVENT
BEGIN:VEVENT
DTSTART;TZID=UTC:20231202T190000
DTEND;TZID=UTC:20231203T000000
DTSTAMP:20260424T003741
CREATED:20231103T202905Z
LAST-MODIFIED:20231103T225354Z
UID:3630-1701543600-1701561600@uwpstlucia.com
SUMMARY:UWP Community Night  - Back in Time \, Western Dance and Bingo Auction
DESCRIPTION:You are invited to a night filled with fun\, unity and good vibes on Saturday December 2nd\, 2023 from 7PM at the Beausejour Indoor Facility . \nA fantastic evening od bingo\, auctions and dancing awaits. \nFor tickets contact : Jenny St. Croix – + 1 758 720 8808
URL:https://uwpstlucia.com/event/uwp-community-night-back-in-time-western-dance-and-bingo-auction/
END:VEVENT
BEGIN:VEVENT
DTSTART;TZID=UTC:20231112T170000
DTEND;TZID=UTC:20231112T220000
DTSTAMP:20260424T003741
CREATED:20231107T201240Z
LAST-MODIFIED:20231107T201354Z
UID:3663-1699808400-1699826400@uwpstlucia.com
SUMMARY:United Workers Party Public Meeting
DESCRIPTION:Join us this Sunday at 5 PM in Sun Valley Park\, Marc Gap\, for a dynamic and engaging public meeting in Castries South East!
URL:https://uwpstlucia.com/event/united-workers-party-public-meeting/
LOCATION:Sun Valley Park\, Marc Gap \, Bexon\, Saint Lucia
ATTACH;FMTTYPE=image/jpeg:https://uwpstlucia.com/wp-content/uploads/2023/11/PHOTO-2023-11-07-09-45-21.jpg
END:VEVENT
BEGIN:VEVENT
DTSTART;TZID=UTC:20231105T093000
DTEND;TZID=UTC:20231105T170000
DTSTAMP:20260424T003741
CREATED:20231101T233609Z
LAST-MODIFIED:20231101T233609Z
UID:3617-1699176600-1699203600@uwpstlucia.com
SUMMARY:National Women’s Arm Conference
DESCRIPTION:Join us on Sunday\, November 5\, 2023\, for the UWP Women’s Arm Conference at Castries Comprehensive Secondary School! Closed session at 9:30 AM\, open session at 2:00 PM. Empowerment and unity in action. \nSee you there!
URL:https://uwpstlucia.com/event/national-womens-arm-conference/
LOCATION:Castries Comprehensive Secondary School\, Saint Lucia
ATTACH;FMTTYPE=image/jpeg:https://uwpstlucia.com/wp-content/uploads/2023/11/87303c2f-5a1c-400e-9e52-ae88423d9cd8.jpeg
END:VEVENT
BEGIN:VEVENT
DTSTART;TZID=UTC:20231102T203000
DTEND;TZID=UTC:20231102T223000
DTSTAMP:20260424T003741
CREATED:20231101T200206Z
LAST-MODIFIED:20231101T200206Z
UID:3606-1698957000-1698964200@uwpstlucia.com
SUMMARY:Round Table Discussion - 2.5% Tax and Cost of Living
DESCRIPTION:Tune in to this week’s Round Table Discussion on the negative impact of the Government’s newly implemented 2.5% Tax on the Cost of Living. \nJoin the discussion this Thursday\, November 2nd\, 2023 from 8:30 PM
URL:https://uwpstlucia.com/event/round-table-discussion-2-5-tax-and-cost-of-living/
ATTACH;FMTTYPE=image/png:https://uwpstlucia.com/wp-content/uploads/2023/11/UWP-PUBLIC-MEETING.png
END:VEVENT
BEGIN:VEVENT
DTSTART;TZID=UTC:20231102T083000
DTEND;TZID=UTC:20231102T100000
DTSTAMP:20260424T003741
CREATED:20231101T201958Z
LAST-MODIFIED:20231101T201958Z
UID:3613-1698913800-1698919200@uwpstlucia.com
SUMMARY:Meet the Opposition - 97.1 FM
DESCRIPTION: Exciting Announcement! \nJoin us every Thursday on Rev Up St. Lucia 97.1 for an educational and informative program where you can meet the opposition and participate in engaging discussions from 9 a.m. to 10:30 a.m.
URL:https://uwpstlucia.com/event/meet-the-opposition-97-1-fm/
LOCATION:97.1 FM and LIVE on UWP Facebook Pages
ATTACH;FMTTYPE=image/png:https://uwpstlucia.com/wp-content/uploads/2023/11/UWP-PUBLIC-MEETING-2.png
END:VEVENT
BEGIN:VEVENT
DTSTART;TZID=UTC:20230603T190000
DTEND;TZID=UTC:20230603T190000
DTSTAMP:20260424T003741
CREATED:20230516T141556Z
LAST-MODIFIED:20230516T170201Z
UID:3064-1685818800-1685818800@uwpstlucia.com
SUMMARY:UWP Community Night
DESCRIPTION:Includes Dinner\, a Glass of Wine and a Bingo Card\nRaffles\, Auctions and Door Prizes to be Won. \nContact UWP Secretariat or Jenny for Tickets\n(758) 451-4949 and (758) 720-8808
URL:https://uwpstlucia.com/event/uwp-community-night/
LOCATION:Beausejour\, Vieux Fort
END:VEVENT
BEGIN:VEVENT
DTSTART;TZID=UTC:20230528T160000
DTEND;TZID=UTC:20230528T230000
DTSTAMP:20260424T003741
CREATED:20230520T125635Z
LAST-MODIFIED:20230520T125635Z
UID:3097-1685289600-1685314800@uwpstlucia.com
SUMMARY:Country and Western Night - Castries East and Friends
DESCRIPTION:
URL:https://uwpstlucia.com/event/country-and-western-night-castries-east-and-friends/
LOCATION:The Warehouse( Next to Ferrands Bridge)
END:VEVENT
BEGIN:VEVENT
DTSTART;TZID=UTC:20230528T120000
DTEND;TZID=UTC:20230528T120000
DTSTAMP:20260424T003741
CREATED:20230516T182004Z
LAST-MODIFIED:20230516T182227Z
UID:3076-1685275200-1685275200@uwpstlucia.com
SUMMARY:Friends and Family BBQ
DESCRIPTION:  \nFOOD – DRINKS – MUSIC – GAMES \n 
URL:https://uwpstlucia.com/event/friends-and-family-bbq/
LOCATION:Jordan’s Bar and Grill\, Marchand Road\, Castries\, Saint Lucia
END:VEVENT
BEGIN:VEVENT
DTSTART;TZID=UTC:20230521T100000
DTEND;TZID=UTC:20230521T170000
DTSTAMP:20260424T003741
CREATED:20230520T124916Z
LAST-MODIFIED:20230520T124916Z
UID:3092-1684663200-1684688400@uwpstlucia.com
SUMMARY:Sunday Vibes - Domino\, Dance and Cricket
DESCRIPTION:Sunday Vibes- Happening this coming Sunday\, May 21\, 2023 from 10AM. Lots of prizes to be won!Looking forward to seeing you there
URL:https://uwpstlucia.com/event/sunday-vibes-domino-dance-and-cricket/
LOCATION:Belair Playing Field\, Saint Lucia
END:VEVENT
BEGIN:VEVENT
DTSTART;TZID=UTC:20210526T080000
DTEND;TZID=UTC:20210706T120000
DTSTAMP:20260424T003741
CREATED:20230415T113011Z
LAST-MODIFIED:20230509T154304Z
UID:2965-1622016000-1625572800@uwpstlucia.com
SUMMARY:Vibes
DESCRIPTION:Join Nancy Charles every Wednesday evening from 8:30PM for Vibes. Every week she is joined by a different Parliamentary Representative or UWP Candidate to discuss the vibes in their respective constituencies or latest issues. \nTune in to SKY FM 93.1 or LIVE on GVD TV Channel 115 and on Facebook
URL:https://uwpstlucia.com/event/vibes-2/
CATEGORIES:World Politics
END:VEVENT
BEGIN:VEVENT
DTSTART;TZID=UTC:20210412T080000
DTEND;TZID=UTC:20211025T170000
DTSTAMP:20260424T003741
CREATED:20171213T134523Z
LAST-MODIFIED:20230321T113319Z
UID:394-1618214400-1635181200@uwpstlucia.com
SUMMARY:Inside Castries South East
DESCRIPTION:Every Monday night at 8:00PM\, join Minister for Economic Development\, Transport\, Housing and Civil Aviation and Parliamentary Representative for Castries South East the Hon. Guy Joseph on SKY FM 93.1\, on GVD TV Channel 115 and LIVE on Facebook.
URL:https://uwpstlucia.com/event/inside-castries-south-east/
LOCATION:Concert Hall “Cinema City”\, 350 5th Ave\, New York\, NY 10118\, USA
CATEGORIES:World Politics
ORGANIZER;CN="Jack Well":MAILTO:name@example.com
END:VEVENT
BEGIN:VEVENT
DTSTART;TZID=UTC:20210408T130000
DTEND;TZID=UTC:20211028T160000
DTSTAMP:20260424T003741
CREATED:20171213T134238Z
LAST-MODIFIED:20230321T113322Z
UID:388-1617886800-1635436800@uwpstlucia.com
SUMMARY:South of the Island
DESCRIPTION:Join UWP Candidate for Vieux Fort North Mr. Vincent London every Thursday afternoon from 1:00PM-4:00PM for “South of the Island” as he and his guests discuss some of the ongoing projects and programmes that are ongoing to develop the south.
URL:https://uwpstlucia.com/event/south-of-the-island/
LOCATION:Concert Hall “Cinema City”\, 350 5th Ave\, New York\, NY 10118\, USA
CATEGORIES:World Politics
ORGANIZER;CN="Jack Well":MAILTO:name@example.com
END:VEVENT
END:VCALENDAR