BEGIN:VCALENDAR
VERSION:2.0
PRODID:-//United Workers Party - ECPv6.15.13.1//NONSGML v1.0//EN
CALSCALE:GREGORIAN
METHOD:PUBLISH
X-ORIGINAL-URL:https://uwpstlucia.com
X-WR-CALDESC:Events for United Workers Party
REFRESH-INTERVAL;VALUE=DURATION:PT1H
X-Robots-Tag:noindex
X-PUBLISHED-TTL:PT1H
BEGIN:VTIMEZONE
TZID:UTC
BEGIN:STANDARD
TZOFFSETFROM:+0000
TZOFFSETTO:+0000
TZNAME:UTC
DTSTART:20200101T000000
END:STANDARD
END:VTIMEZONE
BEGIN:VEVENT
DTSTART;TZID=UTC:20210526T080000
DTEND;TZID=UTC:20210706T120000
DTSTAMP:20260423T205145
CREATED:20230415T113011Z
LAST-MODIFIED:20230509T154304Z
UID:2965-1622016000-1625572800@uwpstlucia.com
SUMMARY:Vibes
DESCRIPTION:Join Nancy Charles every Wednesday evening from 8:30PM for Vibes. Every week she is joined by a different Parliamentary Representative or UWP Candidate to discuss the vibes in their respective constituencies or latest issues. \nTune in to SKY FM 93.1 or LIVE on GVD TV Channel 115 and on Facebook
URL:https://uwpstlucia.com/event/vibes-2/
CATEGORIES:World Politics
END:VEVENT
BEGIN:VEVENT
DTSTART;TZID=UTC:20210412T080000
DTEND;TZID=UTC:20211025T170000
DTSTAMP:20260423T205145
CREATED:20171213T134523Z
LAST-MODIFIED:20230321T113319Z
UID:394-1618214400-1635181200@uwpstlucia.com
SUMMARY:Inside Castries South East
DESCRIPTION:Every Monday night at 8:00PM\, join Minister for Economic Development\, Transport\, Housing and Civil Aviation and Parliamentary Representative for Castries South East the Hon. Guy Joseph on SKY FM 93.1\, on GVD TV Channel 115 and LIVE on Facebook.
URL:https://uwpstlucia.com/event/inside-castries-south-east/
LOCATION:Concert Hall “Cinema City”\, 350 5th Ave\, New York\, NY 10118\, USA
CATEGORIES:World Politics
ORGANIZER;CN="Jack Well":MAILTO:name@example.com
END:VEVENT
BEGIN:VEVENT
DTSTART;TZID=UTC:20210408T130000
DTEND;TZID=UTC:20211028T160000
DTSTAMP:20260423T205145
CREATED:20171213T134238Z
LAST-MODIFIED:20230321T113322Z
UID:388-1617886800-1635436800@uwpstlucia.com
SUMMARY:South of the Island
DESCRIPTION:Join UWP Candidate for Vieux Fort North Mr. Vincent London every Thursday afternoon from 1:00PM-4:00PM for “South of the Island” as he and his guests discuss some of the ongoing projects and programmes that are ongoing to develop the south.
URL:https://uwpstlucia.com/event/south-of-the-island/
LOCATION:Concert Hall “Cinema City”\, 350 5th Ave\, New York\, NY 10118\, USA
CATEGORIES:World Politics
ORGANIZER;CN="Jack Well":MAILTO:name@example.com
END:VEVENT
END:VCALENDAR